BEGIN:VCALENDAR
VERSION:2.0
PRODID:-//Allgemeiner Bürgerverein Urdenbach e. V. - ECPv6.15.20//NONSGML v1.0//EN
CALSCALE:GREGORIAN
METHOD:PUBLISH
X-ORIGINAL-URL:https://www.duesseldorf-urdenbach.de
X-WR-CALDESC:Veranstaltungen für Allgemeiner Bürgerverein Urdenbach e. V.
REFRESH-INTERVAL;VALUE=DURATION:PT1H
X-Robots-Tag:noindex
X-PUBLISHED-TTL:PT1H
BEGIN:VTIMEZONE
TZID:Europe/Berlin
BEGIN:DAYLIGHT
TZOFFSETFROM:+0100
TZOFFSETTO:+0200
TZNAME:CEST
DTSTART:20220327T010000
END:DAYLIGHT
BEGIN:STANDARD
TZOFFSETFROM:+0200
TZOFFSETTO:+0100
TZNAME:CET
DTSTART:20221030T010000
END:STANDARD
BEGIN:DAYLIGHT
TZOFFSETFROM:+0100
TZOFFSETTO:+0200
TZNAME:CEST
DTSTART:20230326T010000
END:DAYLIGHT
BEGIN:STANDARD
TZOFFSETFROM:+0200
TZOFFSETTO:+0100
TZNAME:CET
DTSTART:20231029T010000
END:STANDARD
BEGIN:DAYLIGHT
TZOFFSETFROM:+0100
TZOFFSETTO:+0200
TZNAME:CEST
DTSTART:20240331T010000
END:DAYLIGHT
BEGIN:STANDARD
TZOFFSETFROM:+0200
TZOFFSETTO:+0100
TZNAME:CET
DTSTART:20241027T010000
END:STANDARD
END:VTIMEZONE
BEGIN:VEVENT
DTSTART;TZID=Europe/Berlin:20231220T173000
DTEND;TZID=Europe/Berlin:20231220T173000
DTSTAMP:20260424T012523
CREATED:20231122T084715Z
LAST-MODIFIED:20231122T084715Z
UID:2594-1703093400-1703093400@www.duesseldorf-urdenbach.de
SUMMARY:Tier Weihnacht
DESCRIPTION:Gemeinsam wollen wir los in die Urdenbacher Kämpe\, singen Weihnachtslieder und hören gemeinsam eine Weihnachtsgeschichte. \nDanach hängen wir Futter an einen Baum\, um auch die Tiere zu beschenken. Bringt gern etwas zum Aufhängen mit. \nAnmeldung bis spätestens 17.12.2023 unter kids@abvu.de
URL:https://www.duesseldorf-urdenbach.de/termin/tier-weihnacht/
LOCATION:Josef-Kürten-Platz\, Josef-Kürten-Platz\, Düsseldorf\, 40593\, Deutschland
END:VEVENT
END:VCALENDAR