BEGIN:VCALENDAR
VERSION:2.0
PRODID:-//Allgemeiner Bürgerverein Urdenbach e. V. - ECPv6.15.20//NONSGML v1.0//EN
CALSCALE:GREGORIAN
METHOD:PUBLISH
X-WR-CALNAME:Allgemeiner Bürgerverein Urdenbach e. V.
X-ORIGINAL-URL:https://www.duesseldorf-urdenbach.de
X-WR-CALDESC:Veranstaltungen für Allgemeiner Bürgerverein Urdenbach e. V.
REFRESH-INTERVAL;VALUE=DURATION:PT1H
X-Robots-Tag:noindex
X-PUBLISHED-TTL:PT1H
BEGIN:VTIMEZONE
TZID:Europe/Berlin
BEGIN:DAYLIGHT
TZOFFSETFROM:+0100
TZOFFSETTO:+0200
TZNAME:CEST
DTSTART:20230326T010000
END:DAYLIGHT
BEGIN:STANDARD
TZOFFSETFROM:+0200
TZOFFSETTO:+0100
TZNAME:CET
DTSTART:20231029T010000
END:STANDARD
BEGIN:DAYLIGHT
TZOFFSETFROM:+0100
TZOFFSETTO:+0200
TZNAME:CEST
DTSTART:20240331T010000
END:DAYLIGHT
BEGIN:STANDARD
TZOFFSETFROM:+0200
TZOFFSETTO:+0100
TZNAME:CET
DTSTART:20241027T010000
END:STANDARD
BEGIN:DAYLIGHT
TZOFFSETFROM:+0100
TZOFFSETTO:+0200
TZNAME:CEST
DTSTART:20250330T010000
END:DAYLIGHT
BEGIN:STANDARD
TZOFFSETFROM:+0200
TZOFFSETTO:+0100
TZNAME:CET
DTSTART:20251026T010000
END:STANDARD
END:VTIMEZONE
BEGIN:VEVENT
DTSTART;TZID=Europe/Berlin:20240616T140000
DTEND;TZID=Europe/Berlin:20240616T170000
DTSTAMP:20260423T155548
CREATED:20240209T081356Z
LAST-MODIFIED:20240513T092810Z
UID:2666-1718546400-1718557200@www.duesseldorf-urdenbach.de
SUMMARY:Sommerolympiade
DESCRIPTION:Verschiedene Spiele für Kinder. \nAnmeldung bitte bis zum 31.05.2024 per QR Code \n \noder Mail an kids@abvu.de. \nDie Startgebühr von € 2\,- pro Kind sind vor Ort zu bezahlen. Die Anzahl der Plätze ist begrenzt!
URL:https://www.duesseldorf-urdenbach.de/termin/kinder-olympiade/
LOCATION:Alter Schulhof Angerstr. 5\, Angerstr. 5\, Düsseldorf - Urdenbach\, 40593\, Deutschland
ATTACH;FMTTYPE=image/jpeg:https://www.duesseldorf-urdenbach.de/wp-content/uploads/2024/02/887DCE1C-110D-48C8-8A39-58FB977BAF39.jpeg
END:VEVENT
END:VCALENDAR