BEGIN:VCALENDAR
VERSION:2.0
PRODID:-//Allgemeiner Bürgerverein Urdenbach e. V. - ECPv6.15.20//NONSGML v1.0//EN
CALSCALE:GREGORIAN
METHOD:PUBLISH
X-ORIGINAL-URL:https://www.duesseldorf-urdenbach.de
X-WR-CALDESC:Veranstaltungen für Allgemeiner Bürgerverein Urdenbach e. V.
REFRESH-INTERVAL;VALUE=DURATION:PT1H
X-Robots-Tag:noindex
X-PUBLISHED-TTL:PT1H
BEGIN:VTIMEZONE
TZID:Europe/Berlin
BEGIN:DAYLIGHT
TZOFFSETFROM:+0100
TZOFFSETTO:+0200
TZNAME:CEST
DTSTART:20210328T010000
END:DAYLIGHT
BEGIN:STANDARD
TZOFFSETFROM:+0200
TZOFFSETTO:+0100
TZNAME:CET
DTSTART:20211031T010000
END:STANDARD
BEGIN:DAYLIGHT
TZOFFSETFROM:+0100
TZOFFSETTO:+0200
TZNAME:CEST
DTSTART:20220327T010000
END:DAYLIGHT
BEGIN:STANDARD
TZOFFSETFROM:+0200
TZOFFSETTO:+0100
TZNAME:CET
DTSTART:20221030T010000
END:STANDARD
BEGIN:DAYLIGHT
TZOFFSETFROM:+0100
TZOFFSETTO:+0200
TZNAME:CEST
DTSTART:20230326T010000
END:DAYLIGHT
BEGIN:STANDARD
TZOFFSETFROM:+0200
TZOFFSETTO:+0100
TZNAME:CET
DTSTART:20231029T010000
END:STANDARD
END:VTIMEZONE
BEGIN:VEVENT
DTSTART;TZID=Europe/Berlin:20220612T110000
DTEND;TZID=Europe/Berlin:20220612T170000
DTSTAMP:20260421T204603
CREATED:20211106T185655Z
LAST-MODIFIED:20220517T125221Z
UID:1864-1655031600-1655053200@www.duesseldorf-urdenbach.de
SUMMARY:2. Benrath - Urdenbacher Entenrennen
DESCRIPTION:Das 2. Benrath – Urdenbacher Entenrennen startet am 12. Juni. \nUm 12:00 Uhr startet das Kinder-Rennen\, um 13:30 Uhr das Rennen mit den Kreativenten und um 15:00 Uhr das Erwachsenen Rennen. \nStart ist jeweils an der Brücke der Orangerie in Benrath und Zieleinlauf an der Brücke gegenüber dem Krankenhaus. \nDer Erlös geht\, wie auch schon beim letzten mal\, an die Benrather und Urdenbacher Tafel. \nDer Vorverkauf startet ab sofort \nin Benrath: Buchhandlung Dietsch\, Pauli Apotheke und Konditorei Sticherling \nin Urdenbach: Lotto Toto Brüggemann\, Haus Ausleger und Extra zum  alten Rhein. \nGenaue Spielregeln gibt es hier. \nEntenrennen 2022
URL:https://www.duesseldorf-urdenbach.de/termin/2-benrath-urdenbacher-entenrennen-2/
LOCATION:Schlosspark Benrath\, 40597\, Deutschland
CATEGORIES:Urdenbach
ATTACH;FMTTYPE=image/jpeg:https://www.duesseldorf-urdenbach.de/wp-content/uploads/2021/11/Entenrennen-1.jpg
END:VEVENT
END:VCALENDAR