BEGIN:VCALENDAR
VERSION:2.0
PRODID:-//Allgemeiner Bürgerverein Urdenbach e. V. - ECPv6.15.20//NONSGML v1.0//EN
CALSCALE:GREGORIAN
METHOD:PUBLISH
X-ORIGINAL-URL:https://www.duesseldorf-urdenbach.de
X-WR-CALDESC:Veranstaltungen für Allgemeiner Bürgerverein Urdenbach e. V.
REFRESH-INTERVAL;VALUE=DURATION:PT1H
X-Robots-Tag:noindex
X-PUBLISHED-TTL:PT1H
BEGIN:VTIMEZONE
TZID:Europe/Berlin
BEGIN:DAYLIGHT
TZOFFSETFROM:+0100
TZOFFSETTO:+0200
TZNAME:CEST
DTSTART:20210328T010000
END:DAYLIGHT
BEGIN:STANDARD
TZOFFSETFROM:+0200
TZOFFSETTO:+0100
TZNAME:CET
DTSTART:20211031T010000
END:STANDARD
BEGIN:DAYLIGHT
TZOFFSETFROM:+0100
TZOFFSETTO:+0200
TZNAME:CEST
DTSTART:20220327T010000
END:DAYLIGHT
BEGIN:STANDARD
TZOFFSETFROM:+0200
TZOFFSETTO:+0100
TZNAME:CET
DTSTART:20221030T010000
END:STANDARD
BEGIN:DAYLIGHT
TZOFFSETFROM:+0100
TZOFFSETTO:+0200
TZNAME:CEST
DTSTART:20230326T010000
END:DAYLIGHT
BEGIN:STANDARD
TZOFFSETFROM:+0200
TZOFFSETTO:+0100
TZNAME:CET
DTSTART:20231029T010000
END:STANDARD
END:VTIMEZONE
BEGIN:VEVENT
DTSTART;VALUE=DATE:20220930
DTEND;VALUE=DATE:20221004
DTSTAMP:20260425T033842
CREATED:20211106T191202Z
LAST-MODIFIED:20220816T093544Z
UID:1878-1664496000-1664841599@www.duesseldorf-urdenbach.de
SUMMARY:Erntedankfest in Urdenbach
DESCRIPTION:Nach zweijähriger Abstinenz wird es hoffentlich in 2022 ein Erntedankfest geben. \nNähere Infos bei den allgemeinen Terminen.
URL:https://www.duesseldorf-urdenbach.de/termin/erntedankfest-in-urdenbach/
LOCATION:Piels Loch\, Baumberger Weg\, Düsseldorf\, 40593\, Deutschland
CATEGORIES:Urdenbach
ATTACH;FMTTYPE=image/jpeg:https://www.duesseldorf-urdenbach.de/wp-content/uploads/2021/11/Plakat_Buttonverkauf_2022.jpg
END:VEVENT
BEGIN:VEVENT
DTSTART;TZID=Europe/Berlin:20221001T200000
DTEND;TZID=Europe/Berlin:20221001T200000
DTSTAMP:20260425T033842
CREATED:20220816T094312Z
LAST-MODIFIED:20220820T180738Z
UID:2164-1664654400-1664654400@www.duesseldorf-urdenbach.de
SUMMARY:Konzert Höhner
DESCRIPTION:Die diesjährigen Feierlichkeiten zum Erntedankfest starten wir mit einem Konzert der Höhner im Festzelt Piels Loch. \nDer Vorverkauf startet am 28.08.2022 bei Lotto Brüggemann und im Extratour zum Alten Rhein. \nKarten im VVK € 38\,- und an der Abendkasse € 42\,-.
URL:https://www.duesseldorf-urdenbach.de/termin/konzert-hoehner/
LOCATION:Piels Loch\, Baumberger Weg\, Düsseldorf\, 40593\, Deutschland
CATEGORIES:Urdenbach
END:VEVENT
BEGIN:VEVENT
DTSTART;TZID=Europe/Berlin:20221002T130000
DTEND;TZID=Europe/Berlin:20221002T180000
DTSTAMP:20260425T033842
CREATED:20220816T095316Z
LAST-MODIFIED:20220816T095316Z
UID:2166-1664715600-1664733600@www.duesseldorf-urdenbach.de
SUMMARY:Festumzug mit anschließendem Schürreskarrenrennen
DESCRIPTION:Bitte beachten Sie\, dass die Ortseingänge von 11:00 bis 18:00 Uhr gesperrt sind und ein absolutes Halteverbot auf den Straßen des Zugweges besteht.
URL:https://www.duesseldorf-urdenbach.de/termin/festumzug-mit-anschliessendem-schuerreskarrenrennen/
CATEGORIES:Urdenbach
END:VEVENT
BEGIN:VEVENT
DTSTART;TZID=Europe/Berlin:20221003T120000
DTEND;TZID=Europe/Berlin:20221003T190000
DTSTAMP:20260425T033842
CREATED:20220816T095458Z
LAST-MODIFIED:20220820T180426Z
UID:2168-1664798400-1664823600@www.duesseldorf-urdenbach.de
SUMMARY:Blotschen Ball
DESCRIPTION:mit der Roland Brüggen Band \nVorverkauf ab dem 29.08.2022 bei Lotto Brüggemann und im Extratour zum Alten Rhein.\nKarten an der Tageskasse für € 15\,—.
URL:https://www.duesseldorf-urdenbach.de/termin/blotschen-ball/
CATEGORIES:Urdenbach
END:VEVENT
END:VCALENDAR