BEGIN:VCALENDAR
VERSION:2.0
PRODID:-//Allgemeiner Bürgerverein Urdenbach e. V. - ECPv6.15.20//NONSGML v1.0//EN
CALSCALE:GREGORIAN
METHOD:PUBLISH
X-ORIGINAL-URL:https://www.duesseldorf-urdenbach.de
X-WR-CALDESC:Veranstaltungen für Allgemeiner Bürgerverein Urdenbach e. V.
REFRESH-INTERVAL;VALUE=DURATION:PT1H
X-Robots-Tag:noindex
X-PUBLISHED-TTL:PT1H
BEGIN:VTIMEZONE
TZID:Europe/Berlin
BEGIN:DAYLIGHT
TZOFFSETFROM:+0100
TZOFFSETTO:+0200
TZNAME:CEST
DTSTART:20190331T010000
END:DAYLIGHT
BEGIN:STANDARD
TZOFFSETFROM:+0200
TZOFFSETTO:+0100
TZNAME:CET
DTSTART:20191027T010000
END:STANDARD
BEGIN:DAYLIGHT
TZOFFSETFROM:+0100
TZOFFSETTO:+0200
TZNAME:CEST
DTSTART:20200329T010000
END:DAYLIGHT
BEGIN:STANDARD
TZOFFSETFROM:+0200
TZOFFSETTO:+0100
TZNAME:CET
DTSTART:20201025T010000
END:STANDARD
BEGIN:DAYLIGHT
TZOFFSETFROM:+0100
TZOFFSETTO:+0200
TZNAME:CEST
DTSTART:20210328T010000
END:DAYLIGHT
BEGIN:STANDARD
TZOFFSETFROM:+0200
TZOFFSETTO:+0100
TZNAME:CET
DTSTART:20211031T010000
END:STANDARD
END:VTIMEZONE
BEGIN:VEVENT
DTSTART;TZID=Europe/Berlin:20201121T110000
DTEND;TZID=Europe/Berlin:20201121T120000
DTSTAMP:20260425T032435
CREATED:20201022T132849Z
LAST-MODIFIED:20201022T140040Z
UID:1670-1605956400-1605960000@www.duesseldorf-urdenbach.de
SUMMARY:Abgabe Schmuck für den Tannenbaum
DESCRIPTION:Auch wenn es in diesem Jahr keine große Feier zum aufstellen des Weihnachtsbaumes in Urdenbach geben kann\, wird unsere Erntedankgruppe „De Kümmerlinge“ einen Baum aufstellen und diesen mit entsprechenden Schmuck versehen. \nBitte beachten: \n\nDer Schmuck sollte Wetterfest sein\nMaximal zwei Teile können pro Gruppe\, Schule\, Kita\, … abgegeben werden\nBei der Abgabe ist streng auf die Hygieneregeln zu achten\, der Abstand ist einzuhalten und die Aufenthaltsdauer auf das mindeste zu beschränken\n\n 
URL:https://www.duesseldorf-urdenbach.de/termin/abgabe-schmuck-fuer-den-tannenbaum/
LOCATION:Josef-Kürten-Platz\, Josef-Kürten-Platz\, Düsseldorf\, 40593\, Deutschland
CATEGORIES:Urdenbach
ATTACH;FMTTYPE=image/jpeg:https://www.duesseldorf-urdenbach.de/wp-content/uploads/2018/12/IMG_2027.jpg
END:VEVENT
END:VCALENDAR