BEGIN:VCALENDAR
VERSION:2.0
PRODID:-//Allgemeiner Bürgerverein Urdenbach e. V. - ECPv6.15.20//NONSGML v1.0//EN
CALSCALE:GREGORIAN
METHOD:PUBLISH
X-WR-CALNAME:Allgemeiner Bürgerverein Urdenbach e. V.
X-ORIGINAL-URL:https://www.duesseldorf-urdenbach.de
X-WR-CALDESC:Veranstaltungen für Allgemeiner Bürgerverein Urdenbach e. V.
REFRESH-INTERVAL;VALUE=DURATION:PT1H
X-Robots-Tag:noindex
X-PUBLISHED-TTL:PT1H
BEGIN:VTIMEZONE
TZID:Europe/Berlin
BEGIN:DAYLIGHT
TZOFFSETFROM:+0100
TZOFFSETTO:+0200
TZNAME:CEST
DTSTART:20220327T010000
END:DAYLIGHT
BEGIN:STANDARD
TZOFFSETFROM:+0200
TZOFFSETTO:+0100
TZNAME:CET
DTSTART:20221030T010000
END:STANDARD
BEGIN:DAYLIGHT
TZOFFSETFROM:+0100
TZOFFSETTO:+0200
TZNAME:CEST
DTSTART:20230326T010000
END:DAYLIGHT
BEGIN:STANDARD
TZOFFSETFROM:+0200
TZOFFSETTO:+0100
TZNAME:CET
DTSTART:20231029T010000
END:STANDARD
BEGIN:DAYLIGHT
TZOFFSETFROM:+0100
TZOFFSETTO:+0200
TZNAME:CEST
DTSTART:20240331T010000
END:DAYLIGHT
BEGIN:STANDARD
TZOFFSETFROM:+0200
TZOFFSETTO:+0100
TZNAME:CET
DTSTART:20241027T010000
END:STANDARD
END:VTIMEZONE
BEGIN:VEVENT
DTSTART;TZID=Europe/Berlin:20230218T201100
DTEND;TZID=Europe/Berlin:20230218T201100
DTSTAMP:20260421T192454
CREATED:20230111T122208Z
LAST-MODIFIED:20230111T122604Z
UID:2394-1676751060-1676751060@www.duesseldorf-urdenbach.de
SUMMARY:Jetzt erst recht!
DESCRIPTION:Unter diesem Motto feiert die Rudergesellschaft Benrath Karneval. \nKartenbestellung unter: rgbkarneval@gmail.com \nAlle weiteren Informationen auf dem Plakat.
URL:https://www.duesseldorf-urdenbach.de/termin/jetzt-erst-recht/
LOCATION:Rudergesselschaft Benrath\, Benrather Schloßufer 35\,\, Düsseldorf\, 40597
END:VEVENT
BEGIN:VEVENT
DTSTART;TZID=Europe/Berlin:20230222T191100
DTEND;TZID=Europe/Berlin:20230222T191100
DTSTAMP:20260421T192454
CREATED:20221215T055827Z
LAST-MODIFIED:20221215T055827Z
UID:2317-1677093060-1677093060@www.duesseldorf-urdenbach.de
SUMMARY:Hoppeditz Beerdigung mit Fischessen
DESCRIPTION:
URL:https://www.duesseldorf-urdenbach.de/termin/hoppeditz-beerdigung-mit-fischessen/
LOCATION:Schützenhaus\, Drängenburger Str.\, Düsseldorf\, NRW\, 40593\, Deutschland
ATTACH;FMTTYPE=image/png:https://www.duesseldorf-urdenbach.de/wp-content/uploads/2022/12/Bildschirm­foto-2022-12-14-um-15.48.05.png
END:VEVENT
END:VCALENDAR