BEGIN:VCALENDAR
VERSION:2.0
PRODID:-//Allgemeiner Bürgerverein Urdenbach e. V. - ECPv6.15.20//NONSGML v1.0//EN
CALSCALE:GREGORIAN
METHOD:PUBLISH
X-ORIGINAL-URL:https://www.duesseldorf-urdenbach.de
X-WR-CALDESC:Veranstaltungen für Allgemeiner Bürgerverein Urdenbach e. V.
REFRESH-INTERVAL;VALUE=DURATION:PT1H
X-Robots-Tag:noindex
X-PUBLISHED-TTL:PT1H
BEGIN:VTIMEZONE
TZID:Europe/Berlin
BEGIN:DAYLIGHT
TZOFFSETFROM:+0100
TZOFFSETTO:+0200
TZNAME:CEST
DTSTART:20210328T010000
END:DAYLIGHT
BEGIN:STANDARD
TZOFFSETFROM:+0200
TZOFFSETTO:+0100
TZNAME:CET
DTSTART:20211031T010000
END:STANDARD
BEGIN:DAYLIGHT
TZOFFSETFROM:+0100
TZOFFSETTO:+0200
TZNAME:CEST
DTSTART:20220327T010000
END:DAYLIGHT
BEGIN:STANDARD
TZOFFSETFROM:+0200
TZOFFSETTO:+0100
TZNAME:CET
DTSTART:20221030T010000
END:STANDARD
BEGIN:DAYLIGHT
TZOFFSETFROM:+0100
TZOFFSETTO:+0200
TZNAME:CEST
DTSTART:20230326T010000
END:DAYLIGHT
BEGIN:STANDARD
TZOFFSETFROM:+0200
TZOFFSETTO:+0100
TZNAME:CET
DTSTART:20231029T010000
END:STANDARD
END:VTIMEZONE
BEGIN:VEVENT
DTSTART;TZID=Europe/Berlin:20220501T140000
DTEND;TZID=Europe/Berlin:20220501T170000
DTSTAMP:20260420T152752
CREATED:20211106T184947Z
LAST-MODIFIED:20211106T184947Z
UID:1860-1651413600-1651424400@www.duesseldorf-urdenbach.de
SUMMARY:Mai - Kaffee
DESCRIPTION:Herzliche Einladung an alle Ü60 zum Mai-Kaffee. \nTraditionell findet diese Veranstaltung am Tag nach dem Tanz in den Mai im Festzelt am Piels Loch statt. \n  \nWeitere Informationen folgen!
URL:https://www.duesseldorf-urdenbach.de/termin/mai-kaffee-2/
LOCATION:Piels Loch\, Baumberger Weg\, Düsseldorf\, 40593\, Deutschland
CATEGORIES:Urdenbach
ATTACH;FMTTYPE=image/jpeg:https://www.duesseldorf-urdenbach.de/wp-content/uploads/2021/05/IMG_3043-rotated.jpg
END:VEVENT
END:VCALENDAR